BEGIN:VCALENDAR
VERSION:2.0
PRODID:icalendar-ruby
CALSCALE:GREGORIAN
METHOD:PUBLISH
BEGIN:VEVENT
DTSTAMP:20260421T081348Z
UID:14-2709880@anthonybaptistchurch.com
DTSTART:20261004T220000Z
DTEND:20261004T230000Z
CLASS:PUBLIC
CREATED:20260420T195811
DESCRIPTION:
LAST-MODIFIED:20260420T195811
LOCATION:4750 Quenshukeny Road Jersey Shore\, PA 17740
SUMMARY:Bible Study
URL;VALUE=URI:https://anthonybaptistchurch.com/events/bible-study--14/2026-
 10-04
ATTACH;FILENAME=AdobeStock_86836616.jpeg;FMTTYPE=image/jpeg:https://dq5pwpg
 1q8ru0.cloudfront.net/2021/02/23/17/50/46/37f322d2-855b-4f7c-a59a-9cfb9abe
 7813/AdobeStock_86836616.jpeg
END:VEVENT
END:VCALENDAR
