BEGIN:VCALENDAR
VERSION:2.0
PRODID:icalendar-ruby
CALSCALE:GREGORIAN
METHOD:PUBLISH
BEGIN:VEVENT
DTSTAMP:20260425T190838Z
UID:12-2488178@anthonybaptistchurch.com
DTSTART:20261011T220000Z
DTEND:20261011T220000Z
CLASS:PUBLIC
CREATED:20260330T070647
DESCRIPTION:
LAST-MODIFIED:20260330T094817
SUMMARY:Bible Study
URL;VALUE=URI:https://anthonybaptistchurch.com/events/bible-study/2026-10-1
 1
END:VEVENT
END:VCALENDAR
