BEGIN:VCALENDAR
VERSION:2.0
PRODID:icalendar-ruby
CALSCALE:GREGORIAN
METHOD:PUBLISH
BEGIN:VEVENT
DTSTAMP:20260425T203143Z
UID:12-2557171@anthonybaptistchurch.com
DTSTART:20261018T220000Z
DTEND:20261018T220000Z
CLASS:PUBLIC
CREATED:20260406T020512
DESCRIPTION:
LAST-MODIFIED:20260406T073156
SUMMARY:Bible Study
URL;VALUE=URI:https://anthonybaptistchurch.com/events/bible-study/2026-10-1
 8
END:VEVENT
END:VCALENDAR
