BEGIN:VCALENDAR
VERSION:2.0
PRODID:icalendar-ruby
CALSCALE:GREGORIAN
METHOD:PUBLISH
BEGIN:VEVENT
DTSTAMP:20260425T220753Z
UID:12-2629830@anthonybaptistchurch.com
DTSTART:20261025T220000Z
DTEND:20261025T220000Z
CLASS:PUBLIC
CREATED:20260413T070828
DESCRIPTION:
LAST-MODIFIED:20260413T095849
SUMMARY:Bible Study
URL;VALUE=URI:https://anthonybaptistchurch.com/events/bible-study/2026-10-2
 5
END:VEVENT
END:VCALENDAR
