BEGIN:VCALENDAR
VERSION:2.0
PRODID:icalendar-ruby
CALSCALE:GREGORIAN
METHOD:PUBLISH
BEGIN:VEVENT
DTSTAMP:20260425T234607Z
UID:12-2699397@anthonybaptistchurch.com
DTSTART:20261101T230000Z
DTEND:20261101T230000Z
CLASS:PUBLIC
CREATED:20260420T015549
DESCRIPTION:
LAST-MODIFIED:20260420T070314
SUMMARY:Bible Study
URL;VALUE=URI:https://anthonybaptistchurch.com/events/bible-study/2026-11-0
 1
END:VEVENT
END:VCALENDAR
