BEGIN:VCALENDAR
VERSION:2.0
PRODID:icalendar-ruby
CALSCALE:GREGORIAN
METHOD:PUBLISH
BEGIN:VEVENT
DTSTAMP:20260421T130646Z
UID:83-2712558@anthonybaptistchurch.com
DTSTART:20261014T224500Z
DTEND:20261015T001500Z
CLASS:PUBLIC
CREATED:20260421T070425
DESCRIPTION:
LAST-MODIFIED:20260421T070425
LOCATION:4750 Quenshukeny Road Jersey Shore\, PA 17740
SUMMARY:Kids Club
URL;VALUE=URI:https://anthonybaptistchurch.com/events/kids-club/2026-10-14
ATTACH;FILENAME=KidsClubplain.png;FMTTYPE=image/png:https://dq5pwpg1q8ru0.c
 loudfront.net/2022/09/09/07/19/13/65b1b533-1970-40cd-931d-d5d20b66279e/Kid
 sClubplain.png
END:VEVENT
END:VCALENDAR
