BEGIN:VCALENDAR
VERSION:2.0
PRODID:icalendar-ruby
CALSCALE:GREGORIAN
METHOD:PUBLISH
BEGIN:VEVENT
DTSTAMP:20260421T205304Z
UID:34-2717496@anthonybaptistchurch.com
DTSTART:20261007T110000Z
DTEND:20261007T120000Z
CLASS:PUBLIC
CREATED:20260421T145553
DESCRIPTION:
LAST-MODIFIED:20260421T145553
LOCATION:324 Main St\, Salladasburg\, PA 17740
SUMMARY:Men in the Word
URL;VALUE=URI:https://anthonybaptistchurch.com/events/men-in-the-word--34/2
 026-10-07
ATTACH;FILENAME=MenintheWord.png;FMTTYPE=image/png:https://dq5pwpg1q8ru0.cl
 oudfront.net/2022/01/31/09/24/10/25e970fc-a260-45ec-876d-8f6c04e725e8/Meni
 ntheWord.png
END:VEVENT
END:VCALENDAR
