BEGIN:VCALENDAR
VERSION:2.0
PRODID:icalendar-ruby
CALSCALE:GREGORIAN
METHOD:PUBLISH
BEGIN:VEVENT
DTSTAMP:20260423T101728Z
UID:34-2731110@anthonybaptistchurch.com
DTSTART:20261014T110000Z
DTEND:20261014T120000Z
CLASS:PUBLIC
CREATED:20260422T214237
DESCRIPTION:
LAST-MODIFIED:20260422T214237
LOCATION:324 Main St\, Salladasburg\, PA 17740
SUMMARY:Men in the Word
URL;VALUE=URI:https://anthonybaptistchurch.com/events/men-in-the-word--34/2
 026-10-14
ATTACH;FILENAME=MenintheWord.png;FMTTYPE=image/png:https://dq5pwpg1q8ru0.cl
 oudfront.net/2022/01/31/09/24/10/25e970fc-a260-45ec-876d-8f6c04e725e8/Meni
 ntheWord.png
END:VEVENT
END:VCALENDAR
